BEGIN:VCALENDAR
VERSION:2.0
PRODID:-//Casal Popular Atzeneta - ECPv6.2.4//NONSGML v1.0//EN
CALSCALE:GREGORIAN
METHOD:PUBLISH
X-ORIGINAL-URL:https://casal.atzeneta.org
X-WR-CALDESC:Esdeveniments per Casal Popular Atzeneta
REFRESH-INTERVAL;VALUE=DURATION:PT1H
X-Robots-Tag:noindex
X-PUBLISHED-TTL:PT1H
BEGIN:VTIMEZONE
TZID:Europe/Helsinki
BEGIN:DAYLIGHT
TZOFFSETFROM:+0200
TZOFFSETTO:+0300
TZNAME:EEST
DTSTART:20250330T010000
END:DAYLIGHT
BEGIN:STANDARD
TZOFFSETFROM:+0300
TZOFFSETTO:+0200
TZNAME:EET
DTSTART:20251026T010000
END:STANDARD
END:VTIMEZONE
BEGIN:VEVENT
DTSTART;TZID=Europe/Helsinki:20250103T183000
DTEND;TZID=Europe/Helsinki:20250103T200000
DTSTAMP:20260425T142246
CREATED:20241218T092736Z
LAST-MODIFIED:20241218T092755Z
UID:307-1735929000-1735934400@casal.atzeneta.org
SUMMARY:7è Torneig de La Fallera Calavera
DESCRIPTION:Inscripció gratuïta\, enviant un correu a casalatzeneta@gmail.com \nPremi: Un exemplar de La Fallera Calavera 4
URL:https://casal.atzeneta.org/event/7e-torneig-de-la-fallera-calaver/
LOCATION:Casal Popular d’Atzeneta del Maestrat\, Av. Castelló 41\, Atzeneta Del Maestrat\, Castellón\, 12132\, Espanya
CATEGORIES:Campionat,Casal
ATTACH;FMTTYPE=image/png:https://casal.atzeneta.org/wp-content/uploads/2024/12/Campionat-Faller-2025-Post-de-Instagram-1.png
END:VEVENT
BEGIN:VEVENT
DTSTART;TZID=Europe/Helsinki:20250104T190000
DTEND;TZID=Europe/Helsinki:20250104T190000
DTSTAMP:20260425T142246
CREATED:20241218T093400Z
LAST-MODIFIED:20241218T093400Z
UID:316-1736017200-1736017200@casal.atzeneta.org
SUMMARY:Som Jazz Club
DESCRIPTION:Dj’s Drew i punt + Degustació de cerveses \nNomés vinils
URL:https://casal.atzeneta.org/event/som-jazz-club-3/
LOCATION:Casal Popular d’Atzeneta del Maestrat\, Av. Castelló 41\, Atzeneta Del Maestrat\, Castellón\, 12132\, Espanya
CATEGORIES:Casal,DJ,Gratuït
ATTACH;FMTTYPE=image/jpeg:https://casal.atzeneta.org/wp-content/uploads/2024/12/WhatsApp-Image-2024-11-28-at-17.17.04-1.jpeg
ORGANIZER;CN="Comissi%C3%B3 Cultural D'Atzeneta del Maestrat":MAILTO:casalatzeneta@gmail.com
END:VEVENT
END:VCALENDAR