BEGIN:VCALENDAR
VERSION:2.0
PRODID:-//Casal Popular Atzeneta - ECPv6.2.4//NONSGML v1.0//EN
CALSCALE:GREGORIAN
METHOD:PUBLISH
X-WR-CALNAME:Casal Popular Atzeneta
X-ORIGINAL-URL:https://casal.atzeneta.org
X-WR-CALDESC:Esdeveniments per Casal Popular Atzeneta
REFRESH-INTERVAL;VALUE=DURATION:PT1H
X-Robots-Tag:noindex
X-PUBLISHED-TTL:PT1H
BEGIN:VTIMEZONE
TZID:Europe/Helsinki
BEGIN:DAYLIGHT
TZOFFSETFROM:+0200
TZOFFSETTO:+0300
TZNAME:EEST
DTSTART:20250330T010000
END:DAYLIGHT
BEGIN:STANDARD
TZOFFSETFROM:+0300
TZOFFSETTO:+0200
TZNAME:EET
DTSTART:20251026T010000
END:STANDARD
END:VTIMEZONE
BEGIN:VEVENT
DTSTART;TZID=Europe/Helsinki:20250530T193000
DTEND;TZID=Europe/Helsinki:20250530T203000
DTSTAMP:20260425T035534
CREATED:20250528T092820Z
LAST-MODIFIED:20250528T092820Z
UID:359-1748633400-1748637000@casal.atzeneta.org
SUMMARY:Preestrena del curtmetratge "Molt Alta Tensió"
DESCRIPTION:Aquest 𝐝𝐢𝐯𝐞𝐧𝐝𝐫𝐞𝐬 𝐚 𝐥𝐞𝐬 𝟏𝟗.𝟑𝟎𝐡 𝐚𝐥 𝐂𝐚𝐬𝐚𝐥 𝐏𝐨𝐩𝐮𝐥𝐚𝐫\, vine a descobrir en primícia el nou 𝐜𝐮𝐫𝐭 𝐝𝐞 𝐟𝐢𝐜𝐜𝐢𝐨́ 𝐚𝐦𝐛 𝐞𝐥𝐞𝐦𝐞𝐧𝐭𝐬 𝐟𝐚𝐧𝐭𝐚̀𝐬𝐭𝐢𝐜𝐬\, inspirat en la lluita contra la MAT i rodat el passat mes d’octubre en diversos espais del nostre poble. \nUna història de resistència i misteris inexplicables que connecten el nostre territori amb presències que van més enllà del que coneixem… tot plegat\, a través de la mirada de la productora 𝐒𝐢𝐬𝐭𝐞𝐦𝐚 𝐝𝐞𝐥 𝐒𝐨𝐥𝐚𝐫. \n🎬 Presentació a càrrec de:\n🗣️ Joan Alamar\, director o guionista\n📸 Natxo Alapon\, director de fotografia\n🎥 I la resta de l’equip creatiu \nNo et perdes aquesta oportunitat de veure el curt abans que ningú i conéixer de prop els seus protagonistes!
URL:https://casal.atzeneta.org/event/preestrena-del-curtmetratge-molt-alta-tensio/
LOCATION:Casal Popular d’Atzeneta del Maestrat\, Av. Castelló 41\, Atzeneta Del Maestrat\, Castellón\, 12132\, Espanya
CATEGORIES:Casal,Projeccions
ATTACH;FMTTYPE=image/jpeg:https://casal.atzeneta.org/wp-content/uploads/2025/05/matw.jpg
END:VEVENT
END:VCALENDAR