BEGIN:VCALENDAR
VERSION:2.0
PRODID:-//Casal Popular Atzeneta - ECPv6.2.4//NONSGML v1.0//EN
CALSCALE:GREGORIAN
METHOD:PUBLISH
X-WR-CALNAME:Casal Popular Atzeneta
X-ORIGINAL-URL:https://casal.atzeneta.org
X-WR-CALDESC:Esdeveniments per Casal Popular Atzeneta
REFRESH-INTERVAL;VALUE=DURATION:PT1H
X-Robots-Tag:noindex
X-PUBLISHED-TTL:PT1H
BEGIN:VTIMEZONE
TZID:Europe/Helsinki
BEGIN:DAYLIGHT
TZOFFSETFROM:+0200
TZOFFSETTO:+0300
TZNAME:EEST
DTSTART:20240331T010000
END:DAYLIGHT
BEGIN:STANDARD
TZOFFSETFROM:+0300
TZOFFSETTO:+0200
TZNAME:EET
DTSTART:20241027T010000
END:STANDARD
END:VTIMEZONE
BEGIN:VEVENT
DTSTART;TZID=Europe/Helsinki:20241202T180000
DTEND;TZID=Europe/Helsinki:20241202T193000
DTSTAMP:20260425T154501
CREATED:20241024T085839Z
LAST-MODIFIED:20241024T085839Z
UID:273-1733162400-1733167800@casal.atzeneta.org
SUMMARY:Xerrada: Xarxes socials i violència de gènere
DESCRIPTION:
URL:https://casal.atzeneta.org/event/xerrada-xarxes-socials-i-violencia-de-genere/
LOCATION:Casal Popular d’Atzeneta del Maestrat\, Av. Castelló 41\, Atzeneta Del Maestrat\, Castellón\, 12132\, Espanya
CATEGORIES:Casal,Xerrada
END:VEVENT
END:VCALENDAR