BEGIN:VCALENDAR
VERSION:2.0
PRODID:-//Casal Popular Atzeneta - ECPv6.2.4//NONSGML v1.0//EN
CALSCALE:GREGORIAN
METHOD:PUBLISH
X-ORIGINAL-URL:https://casal.atzeneta.org
X-WR-CALDESC:Esdeveniments per Casal Popular Atzeneta
REFRESH-INTERVAL;VALUE=DURATION:PT1H
X-Robots-Tag:noindex
X-PUBLISHED-TTL:PT1H
BEGIN:VTIMEZONE
TZID:Europe/Helsinki
BEGIN:DAYLIGHT
TZOFFSETFROM:+0200
TZOFFSETTO:+0300
TZNAME:EEST
DTSTART:20230326T010000
END:DAYLIGHT
BEGIN:STANDARD
TZOFFSETFROM:+0300
TZOFFSETTO:+0200
TZNAME:EET
DTSTART:20231029T010000
END:STANDARD
BEGIN:DAYLIGHT
TZOFFSETFROM:+0200
TZOFFSETTO:+0300
TZNAME:EEST
DTSTART:20240331T010000
END:DAYLIGHT
BEGIN:STANDARD
TZOFFSETFROM:+0300
TZOFFSETTO:+0200
TZNAME:EET
DTSTART:20241027T010000
END:STANDARD
END:VTIMEZONE
BEGIN:VEVENT
DTSTART;TZID=Europe/Helsinki:20240806T153000
DTEND;TZID=Europe/Helsinki:20240806T200000
DTSTAMP:20260424T192224
CREATED:20240731T102733Z
LAST-MODIFIED:20240731T102733Z
UID:249-1722958200-1722974400@casal.atzeneta.org
SUMMARY:Festa amb inflables a la piscina
DESCRIPTION:
URL:https://casal.atzeneta.org/event/festa-amb-inflables-a-la-piscina/
LOCATION:Castellón
ATTACH;FMTTYPE=image/png:https://casal.atzeneta.org/wp-content/uploads/2024/07/Festa-amb-Inflables-a-la-Piscina-1.png
END:VEVENT
BEGIN:VEVENT
DTSTART;TZID=Europe/Helsinki:20240723T220000
DTEND;TZID=Europe/Helsinki:20240723T233000
DTSTAMP:20260424T192224
CREATED:20240717T074739Z
LAST-MODIFIED:20240717T074739Z
UID:243-1721772000-1721777400@casal.atzeneta.org
SUMMARY:Cinema en valencià
DESCRIPTION:Cinema en valencià \nPel·licula d’acció per a majors de 13 anys
URL:https://casal.atzeneta.org/event/cinema-en-valencia-2/
LOCATION:Carrer del Barranc
END:VEVENT
BEGIN:VEVENT
DTSTART;TZID=Europe/Helsinki:20240721T193000
DTEND;TZID=Europe/Helsinki:20240721T203000
DTSTAMP:20260424T192224
CREATED:20240717T074605Z
LAST-MODIFIED:20240717T074605Z
UID:240-1721590200-1721593800@casal.atzeneta.org
SUMMARY:Teatre amb titelles: "Joan sense por"
DESCRIPTION:Cicle de contacontes de la Biblioteca \nTeatre amb titelles: “Joan sense por” \nA càrrec de la narradora Elisa M. Matallín\n“Joan no té por de res\, i per això anirà al castell embruixat i descobrirà un munt de personatges que tractaran d’espantar-lo”. Un conte ple dels típics elements dels titelles de garrotada: colps\, amagatalls\, bruixes i dimonis\, tant això com la participació del públic que haurà d’ajudar el nostre protagonista.
URL:https://casal.atzeneta.org/event/teatre-amb-titelles-joan-sense-por/
LOCATION:Castellón
CATEGORIES:Contacontes,Gratuït
ATTACH;FMTTYPE=image/png:https://casal.atzeneta.org/wp-content/uploads/2024/07/21jm.png
ORGANIZER;CN="Comissi%C3%B3 Cultural D'Atzeneta del Maestrat":MAILTO:casalatzeneta@gmail.com
END:VEVENT
BEGIN:VEVENT
DTSTART;TZID=Europe/Helsinki:20240716T220000
DTEND;TZID=Europe/Helsinki:20240716T233000
DTSTAMP:20260424T192224
CREATED:20240717T074330Z
LAST-MODIFIED:20240717T074330Z
UID:237-1721167200-1721172600@casal.atzeneta.org
SUMMARY:Cinema en valencià per a tots els públics
DESCRIPTION:Cinema al carrer \nCinema d’animació\, en valencià\, per a públic familiar
URL:https://casal.atzeneta.org/event/cinema-en-valencia-per-a-tots-els-publics-3/
LOCATION:Carrer del Barranc
END:VEVENT
BEGIN:VEVENT
DTSTART;TZID=Europe/Helsinki:20240706T180000
DTEND;TZID=Europe/Helsinki:20240706T200000
DTSTAMP:20260424T192224
CREATED:20240702T144416Z
LAST-MODIFIED:20240702T144416Z
UID:232-1720288800-1720296000@casal.atzeneta.org
SUMMARY:Concert de Gargamboig
DESCRIPTION:
URL:https://casal.atzeneta.org/event/concert-de-gargamboig/
LOCATION:Casal Popular d’Atzeneta del Maestrat\, Av. Castelló 41\, Atzeneta Del Maestrat\, Castellón\, 12132\, Espanya
ATTACH;FMTTYPE=image/png:https://casal.atzeneta.org/wp-content/uploads/2024/07/concert-gargam.png
END:VEVENT
BEGIN:VEVENT
DTSTART;TZID=Europe/Helsinki:20240628T120000
DTEND;TZID=Europe/Helsinki:20240630T200000
DTSTAMP:20260424T192224
CREATED:20240419T090319Z
LAST-MODIFIED:20240419T090319Z
UID:214-1719576000-1719777600@casal.atzeneta.org
SUMMARY:6é Aplec de Penyagolosa
DESCRIPTION:
URL:https://casal.atzeneta.org/event/6e-aplec-de-penyagolosa/
LOCATION:Vistabella del Maestrat\, Vistabella del Maestrat
ATTACH;FMTTYPE=image/jpeg:https://casal.atzeneta.org/wp-content/uploads/2024/04/cartellaplec.jpg
END:VEVENT
BEGIN:VEVENT
DTSTART;TZID=Europe/Helsinki:20240616T180000
DTEND;TZID=Europe/Helsinki:20240616T180000
DTSTAMP:20260424T192224
CREATED:20240601T084317Z
LAST-MODIFIED:20240601T084317Z
UID:225-1718560800-1718560800@casal.atzeneta.org
SUMMARY:Cinema en valencià
DESCRIPTION:Cinema de temàtica inclusiva
URL:https://casal.atzeneta.org/event/cinema-en-valencia/
LOCATION:Casal Popular d’Atzeneta del Maestrat\, Av. Castelló 41\, Atzeneta Del Maestrat\, Castellón\, 12132\, Espanya
CATEGORIES:Casal,Gratuït,Projeccions
ATTACH;FMTTYPE=image/png:https://casal.atzeneta.org/wp-content/uploads/2024/06/cinemam.png
ORGANIZER;CN="Comissi%C3%B3 Cultural D'Atzeneta del Maestrat":MAILTO:casalatzeneta@gmail.com
END:VEVENT
BEGIN:VEVENT
DTSTART;TZID=Europe/Helsinki:20240616T120000
DTEND;TZID=Europe/Helsinki:20240616T130000
DTSTAMP:20260424T192224
CREATED:20240601T084153Z
LAST-MODIFIED:20240601T084153Z
UID:222-1718539200-1718542800@casal.atzeneta.org
SUMMARY:Contacontes inclusiu
DESCRIPTION:Superniños\nA càrrec de la narradora cega Manuela Ramos Vidal\n“Una història colorida que ajuda a millorar la forma en què els més menuts\, i no tan menuts\, perceben la discapacitat\, reforçant la seua autoestima i motivant-los a buscar sempre el millor\, no només en la resta\, sinó també en ells mateixos.”
URL:https://casal.atzeneta.org/event/contacontes-inclusiu/
LOCATION:Biblioteca Municipal d’Atzeneta del Maestrat\, Plaça Major\, 4\, Atzeneta Del Maestrat\, Castellón\, 12132\, Espanya
ATTACH;FMTTYPE=image/png:https://casal.atzeneta.org/wp-content/uploads/2024/06/16jm.png
ORGANIZER;CN="Comissi%C3%B3 Cultural D'Atzeneta del Maestrat":MAILTO:casalatzeneta@gmail.com
END:VEVENT
BEGIN:VEVENT
DTSTART;TZID=Europe/Helsinki:20240526T120000
DTEND;TZID=Europe/Helsinki:20240526T130000
DTSTAMP:20260424T192224
CREATED:20240412T111827Z
LAST-MODIFIED:20240412T111827Z
UID:202-1716724800-1716728400@casal.atzeneta.org
SUMMARY:Contacontes: Pepot i la caixeta musical
DESCRIPTION:
URL:https://casal.atzeneta.org/event/contacontes-pepot-i-la-caixeta-musical/
LOCATION:Biblioteca Municipal d’Atzeneta del Maestrat\, Plaça Major\, 4\, Atzeneta Del Maestrat\, Castellón\, 12132\, Espanya
CATEGORIES:Biblioteca
ATTACH;FMTTYPE=image/jpeg:https://casal.atzeneta.org/wp-content/uploads/2024/04/26mm.jpg
ORGANIZER;CN="Comissi%C3%B3 Cultural D'Atzeneta del Maestrat":MAILTO:casalatzeneta@gmail.com
END:VEVENT
BEGIN:VEVENT
DTSTART;TZID=Europe/Helsinki:20240519T180000
DTEND;TZID=Europe/Helsinki:20240519T193000
DTSTAMP:20260424T192224
CREATED:20240503T154340Z
LAST-MODIFIED:20240503T154340Z
UID:219-1716141600-1716147000@casal.atzeneta.org
SUMMARY:Cinemà en valencià per a tots els públics
DESCRIPTION:
URL:https://casal.atzeneta.org/event/cinema-en-valencia-per-a-tots-els-publics-2/
LOCATION:Casal Popular d’Atzeneta del Maestrat\, Av. Castelló 41\, Atzeneta Del Maestrat\, Castellón\, 12132\, Espanya
CATEGORIES:Casal
END:VEVENT
BEGIN:VEVENT
DTSTART;TZID=Europe/Helsinki:20240428T180000
DTEND;TZID=Europe/Helsinki:20240428T191500
DTSTAMP:20260424T192224
CREATED:20240417T090510Z
LAST-MODIFIED:20240417T090510Z
UID:211-1714327200-1714331700@casal.atzeneta.org
SUMMARY:Cinemà en valencià per a tots els públics
DESCRIPTION:
URL:https://casal.atzeneta.org/event/cinema-en-valencia-per-a-tots-els-publics/
LOCATION:Casal Popular d’Atzeneta del Maestrat\, Av. Castelló 41\, Atzeneta Del Maestrat\, Castellón\, 12132\, Espanya
END:VEVENT
BEGIN:VEVENT
DTSTART;TZID=Europe/Helsinki:20240427T190000
DTEND;TZID=Europe/Helsinki:20240427T230000
DTSTAMP:20260424T192224
CREATED:20240417T085755Z
LAST-MODIFIED:20240417T085755Z
UID:208-1714244400-1714258800@casal.atzeneta.org
SUMMARY:Som Jazz Club
DESCRIPTION:Música jazz\, latin cumbia\, afrobeat\, funk… amb Dj’s Dreu i Punt \n+ Degustació de cerveses \n+ Menjar mexicà: Tacos Matilde
URL:https://casal.atzeneta.org/event/som-jazz-club-2/
LOCATION:Castellón
CATEGORIES:Casal,DJ,Gratuït
ATTACH;FMTTYPE=image/jpeg:https://casal.atzeneta.org/wp-content/uploads/2024/04/WhatsApp-Image-2024-04-17-at-10.53.23.jpeg
END:VEVENT
BEGIN:VEVENT
DTSTART;TZID=Europe/Helsinki:20240421T120000
DTEND;TZID=Europe/Helsinki:20240421T130000
DTSTAMP:20260424T192224
CREATED:20240412T110650Z
LAST-MODIFIED:20240412T111539Z
UID:198-1713700800-1713704400@casal.atzeneta.org
SUMMARY:Contacontes: Sant Jordi i el drac
DESCRIPTION:
URL:https://casal.atzeneta.org/event/contacontes-sant-jordi-i-el-drac/
LOCATION:Biblioteca Municipal d’Atzeneta del Maestrat\, Plaça Major\, 4\, Atzeneta Del Maestrat\, Castellón\, 12132\, Espanya
CATEGORIES:Biblioteca
ATTACH;FMTTYPE=image/jpeg:https://casal.atzeneta.org/wp-content/uploads/2024/04/21am.jpg
ORGANIZER;CN="Comissi%C3%B3 Cultural D'Atzeneta del Maestrat":MAILTO:casalatzeneta@gmail.com
END:VEVENT
BEGIN:VEVENT
DTSTART;TZID=Europe/Helsinki:20240420T170000
DTEND;TZID=Europe/Helsinki:20240420T200000
DTSTAMP:20260424T192224
CREATED:20240417T084950Z
LAST-MODIFIED:20240417T084950Z
UID:205-1713632400-1713643200@casal.atzeneta.org
SUMMARY:Yala Palestina
DESCRIPTION:Jornada de suport amb el poble Palestí \n17.00 h Presentació de la jornada i inauguració de l’exposició: “Palestina\, on existir és resistir” (de la Brigada Feminista per Palestina – País Valencià) \n17.30 h Mostra cultural: interpretació de contes i recital poètic \n18.00 h Berenar amb té i productes àrabs\n18.30 h Xerrada: “Palestia-Israel: les claus del conflicte”\, a càrrec de Servi Navarro (Activista per Palestina i membre de BDS Castelló)
URL:https://casal.atzeneta.org/event/yala-palestina/
LOCATION:Casal Popular d’Atzeneta del Maestrat\, Av. Castelló 41\, Atzeneta Del Maestrat\, Castellón\, 12132\, Espanya
ATTACH;FMTTYPE=image/jpeg:https://casal.atzeneta.org/wp-content/uploads/2024/04/IMG-20240415-WA0013.jpg
END:VEVENT
BEGIN:VEVENT
DTSTART;TZID=Europe/Helsinki:20240412T120000
DTEND;TZID=Europe/Helsinki:20240412T130000
DTSTAMP:20260424T192224
CREATED:20240411T081913Z
LAST-MODIFIED:20240411T081913Z
UID:194-1712923200-1712926800@casal.atzeneta.org
SUMMARY:Teatre per a joves i adults
DESCRIPTION:Alice : la veritable història d’Alice Guy i els inicis del cinema\nAsseguda en una butaca\, l’anciana Alice Guy recorda com van ser la seua infància i joventut\, així com els seus inicis al cinema.\nEn aquest exercici narratiu ens donarà a conéixer la seua passió pels llibres\, l’estretor amb la seua àvia i alguns episodis de la seua vida com el primer contacte que va tenir amb el món de la imatge\, els primers treballs a la casa Gaumont\, les primeres projeccions dels Lumière i allò que la va portar a filmar la seua primera pel·lícula “La fada de les cols”.\nEntre mitges del seu relat biogràfic\, ens farà gaudir amb alguns dels contes clàssics que més el van marcar de nena com “L’assemblea dels ratolins”\, faula de La Fontaine\, i “El gat amb botes”\, de Charles Perrault.\nArrodoneixen la posada en escena la música\, els jocs de llums i ombres\, així com algunes projeccions i dibuixos. \nOrganitza: Ajuntament d’Atzeneta del Maestrat – Objetciu Violeta
URL:https://casal.atzeneta.org/event/teatre-per-a-joves-i-adults/
LOCATION:Casal Popular d’Atzeneta del Maestrat\, Av. Castelló 41\, Atzeneta Del Maestrat\, Castellón\, 12132\, Espanya
CATEGORIES:Casal,Gratuït
ATTACH;FMTTYPE=image/png:https://casal.atzeneta.org/wp-content/uploads/2024/04/alicem.png
END:VEVENT
BEGIN:VEVENT
DTSTART;TZID=Europe/Helsinki:20240322T190000
DTEND;TZID=Europe/Helsinki:20240322T200000
DTSTAMP:20260424T192224
CREATED:20240313T111247Z
LAST-MODIFIED:20240313T111247Z
UID:190-1711134000-1711137600@casal.atzeneta.org
SUMMARY:Taller-degustació de patés vegans
DESCRIPTION:Taller degustació de patés vegetarians \nInscripcions a l’Oficina de Turisme\, fins el dimecres 20 de març
URL:https://casal.atzeneta.org/event/taller-degustacio-de-pates-vegans/
LOCATION:Casal Popular d’Atzeneta del Maestrat\, Av. Castelló 41\, Atzeneta Del Maestrat\, Castellón\, 12132\, Espanya
CATEGORIES:Taller
ATTACH;FMTTYPE=image/jpeg:https://casal.atzeneta.org/wp-content/uploads/2024/03/TallerMARC_3.jpg
ORGANIZER;CN="Comissi%C3%B3 Cultural D'Atzeneta del Maestrat":MAILTO:casalatzeneta@gmail.com
END:VEVENT
BEGIN:VEVENT
DTSTART;TZID=Europe/Helsinki:20240315T220000
DTEND;TZID=Europe/Helsinki:20240315T233000
DTSTAMP:20260424T192224
CREATED:20240313T111102Z
LAST-MODIFIED:20240313T111102Z
UID:187-1710540000-1710545400@casal.atzeneta.org
SUMMARY:Cinema de temàtica feminista
DESCRIPTION:Projecció d’una pel·lícula de temàtica feminsita\, per a públic jove i adult
URL:https://casal.atzeneta.org/event/cinema-de-tematica-feminista/
LOCATION:Casal Popular d’Atzeneta del Maestrat\, Av. Castelló 41\, Atzeneta Del Maestrat\, Castellón\, 12132\, Espanya
CATEGORIES:Casal
ATTACH;FMTTYPE=image/png:https://casal.atzeneta.org/wp-content/uploads/2024/03/cinema-m.png
ORGANIZER;CN="Comissi%C3%B3 Cultural D'Atzeneta del Maestrat":MAILTO:casalatzeneta@gmail.com
END:VEVENT
BEGIN:VEVENT
DTSTART;TZID=Europe/Helsinki:20240224T190000
DTEND;TZID=Europe/Helsinki:20240224T203000
DTSTAMP:20260424T192224
CREATED:20240118T120330Z
LAST-MODIFIED:20240118T120330Z
UID:181-1708801200-1708806600@casal.atzeneta.org
SUMMARY:2a sessió del festival de curmetratges VOC "Una mena de joc"
DESCRIPTION:2a sessió del festival de curmetratges VOC “Una mena de joc”
URL:https://casal.atzeneta.org/event/2a-sessio-del-festival-de-curmetratges-voc-una-mena-de-joc/
LOCATION:Casal Popular d’Atzeneta del Maestrat\, Av. Castelló 41\, Atzeneta Del Maestrat\, Castellón\, 12132\, Espanya
CATEGORIES:Projeccions
ORGANIZER;CN="Comissi%C3%B3 Cultural D'Atzeneta del Maestrat":MAILTO:casalatzeneta@gmail.com
END:VEVENT
BEGIN:VEVENT
DTSTART;TZID=Europe/Helsinki:20240217T190000
DTEND;TZID=Europe/Helsinki:20240217T203000
DTSTAMP:20260424T192224
CREATED:20240118T120232Z
LAST-MODIFIED:20240118T120232Z
UID:178-1708196400-1708201800@casal.atzeneta.org
SUMMARY:1a sessió del festival de curmetratges VOC "Avui i demà"
DESCRIPTION:1a sessió del festival de curmetratges VOC “Avui i demà”
URL:https://casal.atzeneta.org/event/1a-sessio-del-festival-de-curmetratges-voc-avui-i-dema/
LOCATION:Castellón
CATEGORIES:Casal,Projeccions
ORGANIZER;CN="Comissi%C3%B3 Cultural D'Atzeneta del Maestrat":MAILTO:casalatzeneta@gmail.com
END:VEVENT
BEGIN:VEVENT
DTSTART;TZID=Europe/Helsinki:20231230T190000
DTEND;TZID=Europe/Helsinki:20231230T203000
DTSTAMP:20260424T192224
CREATED:20231028T091841Z
LAST-MODIFIED:20231028T091841Z
UID:135-1703962800-1703968200@casal.atzeneta.org
SUMMARY:Concert de Cesk Freixas
DESCRIPTION:
URL:https://casal.atzeneta.org/event/concert-de-cesk-freixas/
LOCATION:Casal Popular d’Atzeneta del Maestrat\, Av. Castelló 41\, Atzeneta Del Maestrat\, Castellón\, 12132\, Espanya
CATEGORIES:Casal,Concert,Gratuït
ATTACH;FMTTYPE=image/jpeg:https://casal.atzeneta.org/wp-content/uploads/2023/10/cesk.jpg
END:VEVENT
BEGIN:VEVENT
DTSTART;TZID=Europe/Helsinki:20231230T173000
DTEND;TZID=Europe/Helsinki:20231230T183000
DTSTAMP:20260424T192224
CREATED:20231202T115828Z
LAST-MODIFIED:20231202T115828Z
UID:163-1703957400-1703961000@casal.atzeneta.org
SUMMARY:Xerrada: "La llengua en el sistema comunicatiu valencià"
DESCRIPTION:Xerrada “La llengua en el sistema comunicatiu valencià”\, a càrrec de Moisès Vizcaino\, fundador i editor de la Veu del País Valencià. \n  \n 
URL:https://casal.atzeneta.org/event/xerrada-la-llengua-en-el-sistema-comunicatiu-valencia/
LOCATION:Castellón
CATEGORIES:Casal,Gratuït,Xerrada
ATTACH;FMTTYPE=image/png:https://casal.atzeneta.org/wp-content/uploads/2023/12/veu.png
END:VEVENT
BEGIN:VEVENT
DTSTART;TZID=Europe/Helsinki:20231229T223000
DTEND;TZID=Europe/Helsinki:20231229T233000
DTSTAMP:20260424T192224
CREATED:20231202T114713Z
LAST-MODIFIED:20231202T114713Z
UID:154-1703889000-1703892600@casal.atzeneta.org
SUMMARY:Especial nadal amb Xavi Castillo
DESCRIPTION:Actuació  de l’humorista d’Alcoi Xavi Castillo\, qui en clau d’humor\, en farà un repàs dels esdeveniments més importants d’aquest any.
URL:https://casal.atzeneta.org/event/especial-nadal-amb-xavi-castillo/
LOCATION:Castellón
CATEGORIES:Casal,Gratuït,Humor
ATTACH;FMTTYPE=image/png:https://casal.atzeneta.org/wp-content/uploads/2023/12/XV.png
END:VEVENT
BEGIN:VEVENT
DTSTART;TZID=Europe/Helsinki:20231223T223000
DTEND;TZID=Europe/Helsinki:20231223T223000
DTSTAMP:20260424T192224
CREATED:20231202T115025Z
LAST-MODIFIED:20231202T115025Z
UID:160-1703370600-1703370600@casal.atzeneta.org
SUMMARY:Nit de Karaoke al Casal
DESCRIPTION:
URL:https://casal.atzeneta.org/event/nit-de-karaoke-al-casal/
LOCATION:Castellón
CATEGORIES:Biblioteca,Música
ATTACH;FMTTYPE=image/png:https://casal.atzeneta.org/wp-content/uploads/2023/12/karaoke.png
END:VEVENT
BEGIN:VEVENT
DTSTART;TZID=Europe/Helsinki:20231223T183000
DTEND;TZID=Europe/Helsinki:20231223T200000
DTSTAMP:20260424T192224
CREATED:20231202T114914Z
LAST-MODIFIED:20231202T114914Z
UID:157-1703356200-1703361600@casal.atzeneta.org
SUMMARY:6è Campionat de la Fallera Calavera
DESCRIPTION:Inscripcions al Casal o enviant un correu per mijtà del nostre formulari de contacte
URL:https://casal.atzeneta.org/event/6e-campionat-de-la-fallera-calavera/
LOCATION:Castellón
CATEGORIES:Campionat,Casal,Gratuït
ATTACH;FMTTYPE=image/png:https://casal.atzeneta.org/wp-content/uploads/2023/12/fallera.png
END:VEVENT
BEGIN:VEVENT
DTSTART;TZID=Europe/Helsinki:20231216T100000
DTEND;TZID=Europe/Helsinki:20231216T200000
DTSTAMP:20260424T192224
CREATED:20231215T121117Z
LAST-MODIFIED:20231215T121117Z
UID:171-1702720800-1702756800@casal.atzeneta.org
SUMMARY:Jornada de solidaritat amb el "Grup de suport Laurora"
DESCRIPTION:Des del Casal i la Biblioteca hem organitzat per a aquest dissabte una jornada solidària amb el “Grup de suport l’Aurora“.\nEntitat que treballa amb les ONG que rescaten vides a la Mediterrània\,  consolidant els ports de Borriana\, Vinaròs i Benicarló com a ports solidaris i canalitzant la solidaritat i els recursos de la població per portar a terme accions humanitàries i transformadores. \nPel matí  participarem del Mercat de segona mà\, organitzat per l’Ajuntament i les educadores mediambientals de la Diputació \, amb una paradeta solidària de llibres i joguets a benefici d’aquest col·lectiu. \nTots aquells que hi vulgueu col·laborar\, podeu portar les vostres donacions específiques de joguets i llibres a la Biblioteca o al Casal fins al divendres anterior (15/12). \nI a les 18.00 h\, a més a més\, us convidem a la xerrada de presentació de L’AURORA que farem al Casal perquè sentiu de primera mà l’experiència d’aquesta entitat i gaudir d’un berenar solidari (per al qual també podeu preparar de manera desinteressada qualsevol coca\, dolcet\, salat…) per recaptar més diners per a la seua lluita solidària. \nPer Nadal\, consciència ecològica i solidaritat activa!
URL:https://casal.atzeneta.org/event/jornada-de-solidaritat-amb-el-grup-de-suport-laurora/
LOCATION:Casal Popular d’Atzeneta del Maestrat\, Av. Castelló 41\, Atzeneta Del Maestrat\, Castellón\, 12132\, Espanya
ATTACH;FMTTYPE=image/png:https://casal.atzeneta.org/wp-content/uploads/2023/12/AURORA.png
END:VEVENT
BEGIN:VEVENT
DTSTART;TZID=Europe/Helsinki:20231207T170000
DTEND;TZID=Europe/Helsinki:20231207T210000
DTSTAMP:20260424T192224
CREATED:20231205T090820Z
LAST-MODIFIED:20231205T090943Z
UID:166-1701968400-1701982800@casal.atzeneta.org
SUMMARY:XIV Festa del quinto al Casal
DESCRIPTION:Un any més\, i ja en van 14\, torna la festa del quinto al Casal.\nEl dijous 7\, a partir de les 17.00 h\, obrim les portes del Casal per a encetar la festa de Kintos 2023.
URL:https://casal.atzeneta.org/event/xiv-festa-del-quinto-al-casal/
LOCATION:Casal Popular d’Atzeneta del Maestrat\, Av. Castelló 41\, Atzeneta Del Maestrat\, Castellón\, 12132\, Espanya
CATEGORIES:Casal,Música
ATTACH;FMTTYPE=image/png:https://casal.atzeneta.org/wp-content/uploads/2023/12/qf.png
END:VEVENT
BEGIN:VEVENT
DTSTART;TZID=Europe/Helsinki:20231129T123000
DTEND;TZID=Europe/Helsinki:20231129T140000
DTSTAMP:20260424T192224
CREATED:20231106T081423Z
LAST-MODIFIED:20231106T081423Z
UID:146-1701261000-1701266400@casal.atzeneta.org
SUMMARY:Teatre d'ombres: Bernarda
DESCRIPTION:Activitat per als alumnes d’ESO de l’Institut-Escola CRA del Penyagolosa i per al públic en general. \nActe enmarcats dintre de la programació d’activitats de l’Ajuntament d’Atzeneta per conmemorar el 25N\, Dia Internacional per l’Erradicació de la Violència vers les Dones
URL:https://casal.atzeneta.org/event/teatre-dombres-bernarda/
LOCATION:Castellón
CATEGORIES:Casal,Gratuït
ATTACH;FMTTYPE=image/jpeg:https://casal.atzeneta.org/wp-content/uploads/2023/11/bernarda3-1920w.jpg
END:VEVENT
BEGIN:VEVENT
DTSTART;TZID=Europe/Helsinki:20231119T120000
DTEND;TZID=Europe/Helsinki:20231119T130000
DTSTAMP:20260424T192224
CREATED:20231106T080902Z
LAST-MODIFIED:20231106T081103Z
UID:141-1700395200-1700398800@casal.atzeneta.org
SUMMARY:Contes divergents amb Contaclown
DESCRIPTION:Una pirata que està preocupada perquè el seu capità sempre està malhumorat\, un xiquet que el que més desitja es tindre una nina\, una vaca curiosa que vol descobrir-lo tot… Un munt de personatges divergents i creatius\, que trobaran la sol.lució als seus problemes de la manera més divertida. Contes coeducatius per festejar el 25N de manera ingeniosa. \n\n\n\n  \n\n\n\nActe enmarcats dintre de la programació d’activitats de l’Ajuntament d’Atzeneta per conmemorar el 25N\, Dia Internacional per l’Erradicació de la Violència vers les Dones
URL:https://casal.atzeneta.org/event/contes-divergents-amb-contaclown/
LOCATION:Biblioteca Municipal d’Atzeneta del Maestrat\, Plaça Major\, 4\, Atzeneta Del Maestrat\, Castellón\, 12132\, Espanya
CATEGORIES:Biblioteca,Contacontes,Gratuït
ATTACH;FMTTYPE=image/png:https://casal.atzeneta.org/wp-content/uploads/2023/11/diver.png
END:VEVENT
BEGIN:VEVENT
DTSTART;TZID=Europe/Helsinki:20231118T190000
DTEND;TZID=Europe/Helsinki:20231119T000000
DTSTAMP:20260424T192224
CREATED:20231028T092240Z
LAST-MODIFIED:20231107T123718Z
UID:138-1700334000-1700352000@casal.atzeneta.org
SUMMARY:Som Jazz Club
DESCRIPTION:Música jazz\, latin cumbia\, afrobeat\, funk… amb Dj’s Dreu i Punt
URL:https://casal.atzeneta.org/event/som-jazz-club/
LOCATION:Casal Popular d’Atzeneta del Maestrat\, Av. Castelló 41\, Atzeneta Del Maestrat\, Castellón\, 12132\, Espanya
CATEGORIES:Casal,DJ,Gratuït
ATTACH;FMTTYPE=image/jpeg:https://casal.atzeneta.org/wp-content/uploads/2023/10/IMG_20231106_114144_735.jpg
END:VEVENT
BEGIN:VEVENT
DTSTART;TZID=Europe/Helsinki:20231110T223000
DTEND;TZID=Europe/Helsinki:20231111T003000
DTSTAMP:20260424T192224
CREATED:20231026T083048Z
LAST-MODIFIED:20231026T083111Z
UID:74-1699655400-1699662600@casal.atzeneta.org
SUMMARY:Concert d'Êu i Aerotuerto
DESCRIPTION:
URL:https://casal.atzeneta.org/event/concert-deu-i-aerotuerto/
LOCATION:Casal Popular d’Atzeneta del Maestrat\, Av. Castelló 41\, Atzeneta Del Maestrat\, Castellón\, 12132\, Espanya
CATEGORIES:Casal,Concert,Gratuït
ATTACH;FMTTYPE=image/jpeg:https://casal.atzeneta.org/wp-content/uploads/2023/10/punk.jpg
ORGANIZER;CN="Comissi%C3%B3 Cultural D'Atzeneta del Maestrat":MAILTO:casalatzeneta@gmail.com
END:VEVENT
END:VCALENDAR