BEGIN:VCALENDAR
VERSION:2.0
PRODID:-//Casal Popular Atzeneta - ECPv6.2.4//NONSGML v1.0//EN
CALSCALE:GREGORIAN
METHOD:PUBLISH
X-WR-CALNAME:Casal Popular Atzeneta
X-ORIGINAL-URL:https://casal.atzeneta.org
X-WR-CALDESC:Esdeveniments per Casal Popular Atzeneta
REFRESH-INTERVAL;VALUE=DURATION:PT1H
X-Robots-Tag:noindex
X-PUBLISHED-TTL:PT1H
BEGIN:VTIMEZONE
TZID:Europe/Helsinki
BEGIN:DAYLIGHT
TZOFFSETFROM:+0200
TZOFFSETTO:+0300
TZNAME:EEST
DTSTART:20230326T010000
END:DAYLIGHT
BEGIN:STANDARD
TZOFFSETFROM:+0300
TZOFFSETTO:+0200
TZNAME:EET
DTSTART:20231029T010000
END:STANDARD
END:VTIMEZONE
BEGIN:VEVENT
DTSTART;TZID=Europe/Helsinki:20231216T100000
DTEND;TZID=Europe/Helsinki:20231216T200000
DTSTAMP:20260424T213339
CREATED:20231215T121117Z
LAST-MODIFIED:20231215T121117Z
UID:171-1702720800-1702756800@casal.atzeneta.org
SUMMARY:Jornada de solidaritat amb el "Grup de suport Laurora"
DESCRIPTION:Des del Casal i la Biblioteca hem organitzat per a aquest dissabte una jornada solidària amb el “Grup de suport l’Aurora“.\nEntitat que treballa amb les ONG que rescaten vides a la Mediterrània\,  consolidant els ports de Borriana\, Vinaròs i Benicarló com a ports solidaris i canalitzant la solidaritat i els recursos de la població per portar a terme accions humanitàries i transformadores. \nPel matí  participarem del Mercat de segona mà\, organitzat per l’Ajuntament i les educadores mediambientals de la Diputació \, amb una paradeta solidària de llibres i joguets a benefici d’aquest col·lectiu. \nTots aquells que hi vulgueu col·laborar\, podeu portar les vostres donacions específiques de joguets i llibres a la Biblioteca o al Casal fins al divendres anterior (15/12). \nI a les 18.00 h\, a més a més\, us convidem a la xerrada de presentació de L’AURORA que farem al Casal perquè sentiu de primera mà l’experiència d’aquesta entitat i gaudir d’un berenar solidari (per al qual també podeu preparar de manera desinteressada qualsevol coca\, dolcet\, salat…) per recaptar més diners per a la seua lluita solidària. \nPer Nadal\, consciència ecològica i solidaritat activa!
URL:https://casal.atzeneta.org/event/jornada-de-solidaritat-amb-el-grup-de-suport-laurora/
LOCATION:Casal Popular d’Atzeneta del Maestrat\, Av. Castelló 41\, Atzeneta Del Maestrat\, Castellón\, 12132\, Espanya
ATTACH;FMTTYPE=image/png:https://casal.atzeneta.org/wp-content/uploads/2023/12/AURORA.png
END:VEVENT
BEGIN:VEVENT
DTSTART;TZID=Europe/Helsinki:20231207T170000
DTEND;TZID=Europe/Helsinki:20231207T210000
DTSTAMP:20260424T213339
CREATED:20231205T090820Z
LAST-MODIFIED:20231205T090943Z
UID:166-1701968400-1701982800@casal.atzeneta.org
SUMMARY:XIV Festa del quinto al Casal
DESCRIPTION:Un any més\, i ja en van 14\, torna la festa del quinto al Casal.\nEl dijous 7\, a partir de les 17.00 h\, obrim les portes del Casal per a encetar la festa de Kintos 2023.
URL:https://casal.atzeneta.org/event/xiv-festa-del-quinto-al-casal/
LOCATION:Casal Popular d’Atzeneta del Maestrat\, Av. Castelló 41\, Atzeneta Del Maestrat\, Castellón\, 12132\, Espanya
CATEGORIES:Casal,Música
ATTACH;FMTTYPE=image/png:https://casal.atzeneta.org/wp-content/uploads/2023/12/qf.png
END:VEVENT
BEGIN:VEVENT
DTSTART;TZID=Europe/Helsinki:20231129T123000
DTEND;TZID=Europe/Helsinki:20231129T140000
DTSTAMP:20260424T213339
CREATED:20231106T081423Z
LAST-MODIFIED:20231106T081423Z
UID:146-1701261000-1701266400@casal.atzeneta.org
SUMMARY:Teatre d'ombres: Bernarda
DESCRIPTION:Activitat per als alumnes d’ESO de l’Institut-Escola CRA del Penyagolosa i per al públic en general. \nActe enmarcats dintre de la programació d’activitats de l’Ajuntament d’Atzeneta per conmemorar el 25N\, Dia Internacional per l’Erradicació de la Violència vers les Dones
URL:https://casal.atzeneta.org/event/teatre-dombres-bernarda/
LOCATION:Castellón
CATEGORIES:Casal,Gratuït
ATTACH;FMTTYPE=image/jpeg:https://casal.atzeneta.org/wp-content/uploads/2023/11/bernarda3-1920w.jpg
END:VEVENT
BEGIN:VEVENT
DTSTART;TZID=Europe/Helsinki:20231119T120000
DTEND;TZID=Europe/Helsinki:20231119T130000
DTSTAMP:20260424T213339
CREATED:20231106T080902Z
LAST-MODIFIED:20231106T081103Z
UID:141-1700395200-1700398800@casal.atzeneta.org
SUMMARY:Contes divergents amb Contaclown
DESCRIPTION:Una pirata que està preocupada perquè el seu capità sempre està malhumorat\, un xiquet que el que més desitja es tindre una nina\, una vaca curiosa que vol descobrir-lo tot… Un munt de personatges divergents i creatius\, que trobaran la sol.lució als seus problemes de la manera més divertida. Contes coeducatius per festejar el 25N de manera ingeniosa. \n\n\n\n  \n\n\n\nActe enmarcats dintre de la programació d’activitats de l’Ajuntament d’Atzeneta per conmemorar el 25N\, Dia Internacional per l’Erradicació de la Violència vers les Dones
URL:https://casal.atzeneta.org/event/contes-divergents-amb-contaclown/
LOCATION:Biblioteca Municipal d’Atzeneta del Maestrat\, Plaça Major\, 4\, Atzeneta Del Maestrat\, Castellón\, 12132\, Espanya
CATEGORIES:Biblioteca,Contacontes,Gratuït
ATTACH;FMTTYPE=image/png:https://casal.atzeneta.org/wp-content/uploads/2023/11/diver.png
END:VEVENT
BEGIN:VEVENT
DTSTART;TZID=Europe/Helsinki:20231118T190000
DTEND;TZID=Europe/Helsinki:20231119T000000
DTSTAMP:20260424T213339
CREATED:20231028T092240Z
LAST-MODIFIED:20231107T123718Z
UID:138-1700334000-1700352000@casal.atzeneta.org
SUMMARY:Som Jazz Club
DESCRIPTION:Música jazz\, latin cumbia\, afrobeat\, funk… amb Dj’s Dreu i Punt
URL:https://casal.atzeneta.org/event/som-jazz-club/
LOCATION:Casal Popular d’Atzeneta del Maestrat\, Av. Castelló 41\, Atzeneta Del Maestrat\, Castellón\, 12132\, Espanya
CATEGORIES:Casal,DJ,Gratuït
ATTACH;FMTTYPE=image/jpeg:https://casal.atzeneta.org/wp-content/uploads/2023/10/IMG_20231106_114144_735.jpg
END:VEVENT
BEGIN:VEVENT
DTSTART;TZID=Europe/Helsinki:20231110T223000
DTEND;TZID=Europe/Helsinki:20231111T003000
DTSTAMP:20260424T213339
CREATED:20231026T083048Z
LAST-MODIFIED:20231026T083111Z
UID:74-1699655400-1699662600@casal.atzeneta.org
SUMMARY:Concert d'Êu i Aerotuerto
DESCRIPTION:
URL:https://casal.atzeneta.org/event/concert-deu-i-aerotuerto/
LOCATION:Casal Popular d’Atzeneta del Maestrat\, Av. Castelló 41\, Atzeneta Del Maestrat\, Castellón\, 12132\, Espanya
CATEGORIES:Casal,Concert,Gratuït
ATTACH;FMTTYPE=image/jpeg:https://casal.atzeneta.org/wp-content/uploads/2023/10/punk.jpg
ORGANIZER;CN="Comissi%C3%B3 Cultural D'Atzeneta del Maestrat":MAILTO:casalatzeneta@gmail.com
END:VEVENT
BEGIN:VEVENT
DTSTART;TZID=Europe/Helsinki:20231029T120000
DTEND;TZID=Europe/Helsinki:20231029T130000
DTSTAMP:20260424T213339
CREATED:20231026T083731Z
LAST-MODIFIED:20231026T083756Z
UID:80-1698580800-1698584400@casal.atzeneta.org
SUMMARY:Contacontes "Contes encantats"
DESCRIPTION:CONTES ENCANTATS \nNarradora: Mai\, la Bruixeta dels Contes \nImagineu una bruixa… però no una bruixa de berruga al nas! \nMillor imagineu una bruixeta dolça i divertida… és ella qui té la millor de totes les màgies\, la IMAGINACIÓ.\nAmb ella coneixereu la papallona Marisol\, li fareu un petó a la lluna i vos convertireu en prínceps\, princeses i dracs… tot allò que pugueu imaginar\, gràcies sempre amb la màgia dels seus contes.
URL:https://casal.atzeneta.org/event/contacontes-contes-encantats/
LOCATION:Biblioteca Municipal d’Atzeneta del Maestrat\, Plaça Major\, 4\, Atzeneta Del Maestrat\, Castellón\, 12132\, Espanya
CATEGORIES:Biblioteca,Contacontes,Gratuït
ATTACH;FMTTYPE=image/jpeg:https://casal.atzeneta.org/wp-content/uploads/2023/10/contacontes-mai-scaled.jpg
END:VEVENT
END:VCALENDAR